BEGIN:VCALENDAR
VERSION:2.0
PRODID:icalendar-ruby
CALSCALE:GREGORIAN
METHOD:PUBLISH
BEGIN:VEVENT
DTSTAMP:20260422T050511Z
UID:88-462957@harpethbaptist.org
DTSTART:20260507T120000Z
DTEND:20260508T000000Z
CLASS:PUBLIC
CREATED:20260421T143455
DESCRIPTION:Join us on Thursday\, May 7 for our National Day of Prayer Gath
 ering! Prayer events are being held all day at the veterans memorial in Pe
 gram. Note the schedule below. HBC will host at 11am. \n461 Thompson Roa
 d\nPegram\, TN 37143\n7-8a - \n8-9a - \n9-10a - Pegram First Baptist\n1
 0-11a - The Ark\n11-12p - Harpeth Baptist \n12-1p - Pegram Church of Chr
 ist\n1-2p -  Pegram Church of Christ\n2-3p -  \n3-4p - Kingston Sprin
 gs UMC\n4-5p - \n5-6p - \n6-7p- Pegram First Baptist
LAST-MODIFIED:20260421T143455
LOCATION:461 Thompson Road Pegram\, TN 37143
SUMMARY:National Day of Prayer
URL;VALUE=URI:https://www.harpethbaptist.org/events/national-day-of-prayer-
 -88/2026-05-07
ATTACH;FILENAME=IMG_9162.jpeg;FMTTYPE=image/jpeg:https://dq5pwpg1q8ru0.clou
 dfront.net/2026/04/21/19/34/55/f3f8eb7b-aaeb-4d1c-a93b-9ecf0f1437a6/IMG_91
 62.jpeg
END:VEVENT
END:VCALENDAR
